BEGIN:VCALENDAR
VERSION:2.0
PRODID:-//www.roshpinah.org//NONSGML kigkonsult.se iCalcreator 2.39.1//
CALSCALE:GREGORIAN
METHOD:PUBLISH
UID:92abc904-4472-4fe9-ab88-676766b7827e
X-WR-CALNAME:www.roshpinah.org
X-WR-CALDESC:www.roshpinah.org
X-WR-TIMEZONE:America/Los_Angeles
X-LIC-LOCATION:America/Los_Angeles
BEGIN:VEVENT
UID:d59affc1-3c67-49c3-b500-ead3a7c95d25
DTSTAMP:20260421T195456Z
CLASS:PUBLIC
DTSTART;TZID=America/Los_Angeles:20240924T183000
DTEND;TZID=America/Los_Angeles:20240924T191500
SUMMARY:Tuesday Prayer Time
TRANSP:OPAQUE
BEGIN:VALARM
ACTION:DISPLAY
DESCRIPTION:Tuesday Prayer Time
TRIGGER:-PT15M
END:VALARM
END:VEVENT
END:VCALENDAR
